BEGIN:VCALENDAR
VERSION:2.0
PRODID:JMS Hockey
X-PUBLISHED-TTL:P1W
BEGIN:VEVENT
UID:69e7bf980c0af
DTSTART:20120201T031500Z
SEQUENCE:0
TRANSP:OPAQUE
DTEND:20120201T044500Z
URL:http://jmshockey.com/games/3414
LOCATION:Northeast Arena
SUMMARY:Lower Level Game at Northeast Arena
CLASS:PUBLIC
DTSTAMP:20260421T131904Z
END:VEVENT
END:VCALENDAR