BEGIN:VCALENDAR
VERSION:2.0
PRODID:JMS Hockey
X-PUBLISHED-TTL:P1W
BEGIN:VEVENT
UID:69e7c3ad9ad53
DTSTART:20120118T034500Z
SEQUENCE:0
TRANSP:OPAQUE
DTEND:20120118T051500Z
URL:http://jmshockey.com/games/3410
LOCATION:Northeast Arena
SUMMARY:Lower Level Game at Northeast Arena
CLASS:PUBLIC
DTSTAMP:20260421T133629Z
END:VEVENT
END:VCALENDAR