BEGIN:VCALENDAR
VERSION:2.0
PRODID:JMS Hockey
X-PUBLISHED-TTL:P1W
BEGIN:VEVENT
UID:69e799cbda3db
DTSTART:20111227T020000Z
SEQUENCE:0
TRANSP:OPAQUE
DTEND:20111227T033000Z
URL:http://jmshockey.com/games/3402
LOCATION:Northeast Arena
SUMMARY:Level 3 Game at Northeast Arena
CLASS:PUBLIC
DTSTAMP:20260421T103747Z
END:VEVENT
END:VCALENDAR