BEGIN:VCALENDAR
VERSION:2.0
PRODID:JMS Hockey
X-PUBLISHED-TTL:P1W
BEGIN:VEVENT
UID:69e7dda50b895
DTSTART:20111206T034500Z
SEQUENCE:0
TRANSP:OPAQUE
DTEND:20111206T051500Z
URL:http://jmshockey.com/games/3393
LOCATION:Northeast Arena
SUMMARY:Level 3 Game at Northeast Arena
CLASS:PUBLIC
DTSTAMP:20260421T152717Z
END:VEVENT
END:VCALENDAR