BEGIN:VCALENDAR
VERSION:2.0
PRODID:JMS Hockey
X-PUBLISHED-TTL:P1W
BEGIN:VEVENT
UID:69e7d807315a0
DTSTART:20111025T021500Z
SEQUENCE:0
TRANSP:OPAQUE
DTEND:20111025T034500Z
URL:http://jmshockey.com/games/3382
LOCATION:Northeast Arena
SUMMARY:Level 1 Game at Northeast Arena
CLASS:PUBLIC
DTSTAMP:20260421T150319Z
END:VEVENT
END:VCALENDAR