BEGIN:VCALENDAR
VERSION:2.0
PRODID:JMS Hockey
X-PUBLISHED-TTL:P1W
BEGIN:VEVENT
UID:69e7dd50498a5
DTSTART:20111110T033000Z
SEQUENCE:0
TRANSP:OPAQUE
DTEND:20111110T050000Z
URL:http://jmshockey.com/games/3360
LOCATION:New Hope Ice Arena
SUMMARY:Upper Level Game at New Hope Ice Arena
CLASS:PUBLIC
DTSTAMP:20260421T152552Z
END:VEVENT
END:VCALENDAR