BEGIN:VCALENDAR
VERSION:2.0
PRODID:JMS Hockey
X-PUBLISHED-TTL:P1W
BEGIN:VEVENT
UID:69e7c919a3f06
DTSTART:20111006T023000Z
SEQUENCE:0
TRANSP:OPAQUE
DTEND:20111006T040000Z
URL:http://jmshockey.com/games/3350
LOCATION:New Hope Ice Arena
SUMMARY:Upper Level Game at New Hope Ice Arena
CLASS:PUBLIC
DTSTAMP:20260421T135937Z
END:VEVENT
END:VCALENDAR