BEGIN:VCALENDAR
VERSION:2.0
PRODID:JMS Hockey
X-PUBLISHED-TTL:P1W
BEGIN:VEVENT
UID:69e7e96607886
DTSTART:20090224T034500Z
SEQUENCE:0
TRANSP:OPAQUE
DTEND:20090224T051500Z
URL:http://jmshockey.com/games/335
LOCATION:Coliseum at the State Fair
SUMMARY:Level 3 Game at Coliseum at the State Fair
CLASS:PUBLIC
DTSTAMP:20260421T161726Z
END:VEVENT
END:VCALENDAR