BEGIN:VCALENDAR
VERSION:2.0
PRODID:JMS Hockey
X-PUBLISHED-TTL:P1W
BEGIN:VEVENT
UID:69e7bf8c71b33
DTSTART:20120220T040000Z
SEQUENCE:0
TRANSP:OPAQUE
DTEND:20120220T053000Z
URL:http://jmshockey.com/games/3345
LOCATION:Minnehaha Academy
SUMMARY:All level Game at Minnehaha Academy
CLASS:PUBLIC
DTSTAMP:20260421T131852Z
END:VEVENT
END:VCALENDAR