BEGIN:VCALENDAR
VERSION:2.0
PRODID:JMS Hockey
X-PUBLISHED-TTL:P1W
BEGIN:VEVENT
UID:69e7ad9fab1af
DTSTART:20120213T040000Z
SEQUENCE:0
TRANSP:OPAQUE
DTEND:20120213T053000Z
URL:http://jmshockey.com/games/3343
LOCATION:Minnehaha Academy
SUMMARY:All level Game at Minnehaha Academy
CLASS:PUBLIC
DTSTAMP:20260421T120223Z
END:VEVENT
END:VCALENDAR