BEGIN:VCALENDAR
VERSION:2.0
PRODID:JMS Hockey
X-PUBLISHED-TTL:P1W
BEGIN:VEVENT
UID:69e7c36a42635
DTSTART:20111222T040000Z
SEQUENCE:0
TRANSP:OPAQUE
DTEND:20111222T053000Z
URL:http://jmshockey.com/games/3331
LOCATION:Minnehaha Academy
SUMMARY:All level Game at Minnehaha Academy
CLASS:PUBLIC
DTSTAMP:20260421T133522Z
END:VEVENT
END:VCALENDAR