BEGIN:VCALENDAR
VERSION:2.0
PRODID:JMS Hockey
X-PUBLISHED-TTL:P1W
BEGIN:VEVENT
UID:69e7b13711f88
DTSTART:20111208T040000Z
SEQUENCE:0
TRANSP:OPAQUE
DTEND:20111208T053000Z
URL:http://jmshockey.com/games/3327
LOCATION:Minnehaha Academy
SUMMARY:All level Game at Minnehaha Academy
CLASS:PUBLIC
DTSTAMP:20260421T121743Z
END:VEVENT
END:VCALENDAR