BEGIN:VCALENDAR
VERSION:2.0
PRODID:JMS Hockey
X-PUBLISHED-TTL:P1W
BEGIN:VEVENT
UID:69e7e76e8f34c
DTSTART:20120301T033000Z
SEQUENCE:0
TRANSP:OPAQUE
DTEND:20120301T050000Z
URL:http://jmshockey.com/games/3311
LOCATION:Maple Grove
SUMMARY:Level 3 Game at Maple Grove
CLASS:PUBLIC
DTSTAMP:20260421T160902Z
END:VEVENT
END:VCALENDAR