BEGIN:VCALENDAR
VERSION:2.0
PRODID:JMS Hockey
X-PUBLISHED-TTL:P1W
BEGIN:VEVENT
UID:69e7d631604ff
DTSTART:20120223T033000Z
SEQUENCE:0
TRANSP:OPAQUE
DTEND:20120223T050000Z
URL:http://jmshockey.com/games/3310
LOCATION:Maple Grove
SUMMARY:Level 3 Game at Maple Grove
CLASS:PUBLIC
DTSTAMP:20260421T145529Z
END:VEVENT
END:VCALENDAR