BEGIN:VCALENDAR
VERSION:2.0
PRODID:JMS Hockey
X-PUBLISHED-TTL:P1W
BEGIN:VEVENT
UID:69e7b9de6bffe
DTSTART:20120119T033000Z
SEQUENCE:0
TRANSP:OPAQUE
DTEND:20120119T050000Z
URL:http://jmshockey.com/games/3305
LOCATION:Maple Grove
SUMMARY:Level 3 Game at Maple Grove
CLASS:PUBLIC
DTSTAMP:20260421T125438Z
END:VEVENT
END:VCALENDAR