BEGIN:VCALENDAR
VERSION:2.0
PRODID:JMS Hockey
X-PUBLISHED-TTL:P1W
BEGIN:VEVENT
UID:69e7e6c21003c
DTSTART:20111201T033000Z
SEQUENCE:0
TRANSP:OPAQUE
DTEND:20111201T050000Z
URL:http://jmshockey.com/games/3298
LOCATION:Maple Grove
SUMMARY:Level 3 Game at Maple Grove
CLASS:PUBLIC
DTSTAMP:20260421T160610Z
END:VEVENT
END:VCALENDAR