BEGIN:VCALENDAR
VERSION:2.0
PRODID:JMS Hockey
X-PUBLISHED-TTL:P1W
BEGIN:VEVENT
UID:69e7c3ac85a7a
DTSTART:20120331T020000Z
SEQUENCE:0
TRANSP:OPAQUE
DTEND:20120331T033000Z
URL:http://jmshockey.com/games/3291
LOCATION:Fogerty Icehouse
SUMMARY:All level Game at Fogerty Icehouse
CLASS:PUBLIC
DTSTAMP:20260421T133628Z
END:VEVENT
END:VCALENDAR