BEGIN:VCALENDAR
VERSION:2.0
PRODID:JMS Hockey
X-PUBLISHED-TTL:P1W
BEGIN:VEVENT
UID:69e7d4dbc747d
DTSTART:20120204T040000Z
SEQUENCE:0
TRANSP:OPAQUE
DTEND:20120204T053000Z
URL:http://jmshockey.com/games/3274
LOCATION:Fogerty Icehouse
SUMMARY:All level Game at Fogerty Icehouse
CLASS:PUBLIC
DTSTAMP:20260421T144947Z
END:VEVENT
END:VCALENDAR