BEGIN:VCALENDAR
VERSION:2.0
PRODID:JMS Hockey
X-PUBLISHED-TTL:P1W
BEGIN:VEVENT
UID:69e7a789e5b86
DTSTART:20120125T034000Z
SEQUENCE:0
TRANSP:OPAQUE
DTEND:20120125T051000Z
URL:http://jmshockey.com/games/3270
LOCATION:Fogerty Icehouse
SUMMARY:Upper Level Game at Fogerty Icehouse
CLASS:PUBLIC
DTSTAMP:20260421T113625Z
END:VEVENT
END:VCALENDAR