BEGIN:VCALENDAR
VERSION:2.0
PRODID:JMS Hockey
X-PUBLISHED-TTL:P1W
BEGIN:VEVENT
UID:69e7a723e91bf
DTSTART:20120111T040000Z
SEQUENCE:0
TRANSP:OPAQUE
DTEND:20120111T053000Z
URL:http://jmshockey.com/games/3268
LOCATION:Fogerty Icehouse
SUMMARY:Upper Level Game at Fogerty Icehouse
CLASS:PUBLIC
DTSTAMP:20260421T113443Z
END:VEVENT
END:VCALENDAR