BEGIN:VCALENDAR
VERSION:2.0
PRODID:JMS Hockey
X-PUBLISHED-TTL:P1W
BEGIN:VEVENT
UID:69e7ad77a49b3
DTSTART:20111228T040000Z
SEQUENCE:0
TRANSP:OPAQUE
DTEND:20111228T053000Z
URL:http://jmshockey.com/games/3264
LOCATION:Fogerty Icehouse
SUMMARY:Upper Level Game at Fogerty Icehouse
CLASS:PUBLIC
DTSTAMP:20260421T120143Z
END:VEVENT
END:VCALENDAR