BEGIN:VCALENDAR
VERSION:2.0
PRODID:JMS Hockey
X-PUBLISHED-TTL:P1W
BEGIN:VEVENT
UID:69e7d435ae1e8
DTSTART:20111224T040000Z
SEQUENCE:0
TRANSP:OPAQUE
DTEND:20111224T053000Z
URL:http://jmshockey.com/games/3263
LOCATION:Fogerty Icehouse
SUMMARY:All level Game at Fogerty Icehouse
CLASS:PUBLIC
DTSTAMP:20260421T144701Z
END:VEVENT
END:VCALENDAR