BEGIN:VCALENDAR
VERSION:2.0
PRODID:JMS Hockey
X-PUBLISHED-TTL:P1W
BEGIN:VEVENT
UID:69e7c347e2e2e
DTSTART:20111214T040000Z
SEQUENCE:0
TRANSP:OPAQUE
DTEND:20111214T053000Z
URL:http://jmshockey.com/games/3260
LOCATION:Fogerty Icehouse
SUMMARY:Upper Level Game at Fogerty Icehouse
CLASS:PUBLIC
DTSTAMP:20260421T133447Z
END:VEVENT
END:VCALENDAR