BEGIN:VCALENDAR
VERSION:2.0
PRODID:JMS Hockey
X-PUBLISHED-TTL:P1W
BEGIN:VEVENT
UID:69e7c8c280207
DTSTART:20120207T033000Z
SEQUENCE:0
TRANSP:OPAQUE
DTEND:20120207T050000Z
URL:http://jmshockey.com/games/3252
LOCATION:Breck Anderson Arena
SUMMARY:Level 1 Game at Breck Anderson Arena
CLASS:PUBLIC
DTSTAMP:20260421T135810Z
END:VEVENT
END:VCALENDAR