BEGIN:VCALENDAR
VERSION:2.0
PRODID:JMS Hockey
X-PUBLISHED-TTL:P1W
BEGIN:VEVENT
UID:69e7c35cc2a4b
DTSTART:20120110T033000Z
SEQUENCE:0
TRANSP:OPAQUE
DTEND:20120110T050000Z
URL:http://jmshockey.com/games/3250
LOCATION:Breck Anderson Arena
SUMMARY:Level 3 Game at Breck Anderson Arena
CLASS:PUBLIC
DTSTAMP:20260421T133508Z
END:VEVENT
END:VCALENDAR