BEGIN:VCALENDAR
VERSION:2.0
PRODID:JMS Hockey
X-PUBLISHED-TTL:P1W
BEGIN:VEVENT
UID:69e7d4824dccd
DTSTART:20120117T033000Z
SEQUENCE:0
TRANSP:OPAQUE
DTEND:20120117T050000Z
URL:http://jmshockey.com/games/3249
LOCATION:Breck Anderson Arena
SUMMARY:Level 3 Game at Breck Anderson Arena
CLASS:PUBLIC
DTSTAMP:20260421T144818Z
END:VEVENT
END:VCALENDAR