BEGIN:VCALENDAR
VERSION:2.0
PRODID:JMS Hockey
X-PUBLISHED-TTL:P1W
BEGIN:VEVENT
UID:69e7e08149762
DTSTART:20111109T121500Z
SEQUENCE:0
TRANSP:OPAQUE
DTEND:20111109T131500Z
URL:http://jmshockey.com/games/3246
LOCATION:Breck Anderson Arena
SUMMARY:All level Game at Breck Anderson Arena
CLASS:PUBLIC
DTSTAMP:20260421T153929Z
END:VEVENT
END:VCALENDAR