BEGIN:VCALENDAR
VERSION:2.0
PRODID:JMS Hockey
X-PUBLISHED-TTL:P1W
BEGIN:VEVENT
UID:69e7adb353998
DTSTART:20120419T021500Z
SEQUENCE:0
TRANSP:OPAQUE
DTEND:20120419T034500Z
URL:http://jmshockey.com/games/3226
LOCATION:Bloomington Ice Gardens
SUMMARY:Level 2 Game at Bloomington Ice Gardens
CLASS:PUBLIC
DTSTAMP:20260421T120243Z
END:VEVENT
END:VCALENDAR