BEGIN:VCALENDAR
VERSION:2.0
PRODID:JMS Hockey
X-PUBLISHED-TTL:P1W
BEGIN:VEVENT
UID:69e7a725bc7d0
DTSTART:20120218T040000Z
SEQUENCE:0
TRANSP:OPAQUE
DTEND:20120218T053000Z
URL:http://jmshockey.com/games/3202
LOCATION:Bloomington Ice Gardens
SUMMARY:Level 3 Game at Bloomington Ice Gardens
CLASS:PUBLIC
DTSTAMP:20260421T113445Z
END:VEVENT
END:VCALENDAR