BEGIN:VCALENDAR
VERSION:2.0
PRODID:JMS Hockey
X-PUBLISHED-TTL:P1W
BEGIN:VEVENT
UID:69e7953d72a02
DTSTART:20120128T034500Z
SEQUENCE:0
TRANSP:OPAQUE
DTEND:20120128T051500Z
URL:http://jmshockey.com/games/3193
LOCATION:Bloomington Ice Gardens
SUMMARY:Level 3 Game at Bloomington Ice Gardens
CLASS:PUBLIC
DTSTAMP:20260421T101821Z
END:VEVENT
END:VCALENDAR