BEGIN:VCALENDAR
VERSION:2.0
PRODID:JMS Hockey
X-PUBLISHED-TTL:P1W
BEGIN:VEVENT
UID:69e7c31c5eda8
DTSTART:20120126T034500Z
SEQUENCE:0
TRANSP:OPAQUE
DTEND:20120126T051500Z
URL:http://jmshockey.com/games/3192
LOCATION:Bloomington Ice Gardens
SUMMARY:Level 2 Game at Bloomington Ice Gardens
CLASS:PUBLIC
DTSTAMP:20260421T133404Z
END:VEVENT
END:VCALENDAR