BEGIN:VCALENDAR
VERSION:2.0
PRODID:JMS Hockey
X-PUBLISHED-TTL:P1W
BEGIN:VEVENT
UID:69e7b123a4833
DTSTART:20120201T033000Z
SEQUENCE:0
TRANSP:OPAQUE
DTEND:20120201T050000Z
URL:http://jmshockey.com/games/3177
LOCATION:Apple Valley Sports Arena
SUMMARY:All level Game at Apple Valley Sports Arena
CLASS:PUBLIC
DTSTAMP:20260421T121723Z
END:VEVENT
END:VCALENDAR