BEGIN:VCALENDAR
VERSION:2.0
PRODID:JMS Hockey
X-PUBLISHED-TTL:P1W
BEGIN:VEVENT
UID:69e8678138046
DTSTART:20120118T033000Z
SEQUENCE:0
TRANSP:OPAQUE
DTEND:20120118T050000Z
URL:http://jmshockey.com/games/3175
LOCATION:Apple Valley Sports Arena
SUMMARY:All level Game at Apple Valley Sports Arena
CLASS:PUBLIC
DTSTAMP:20260422T011529Z
END:VEVENT
END:VCALENDAR