BEGIN:VCALENDAR
VERSION:2.0
PRODID:JMS Hockey
X-PUBLISHED-TTL:P1W
BEGIN:VEVENT
UID:69e7c35763a0a
DTSTART:20111214T033000Z
SEQUENCE:0
TRANSP:OPAQUE
DTEND:20111214T050000Z
URL:http://jmshockey.com/games/3170
LOCATION:Apple Valley Hayes Park Arena
SUMMARY:All level Game at Apple Valley Hayes Park Arena
CLASS:PUBLIC
DTSTAMP:20260421T133503Z
END:VEVENT
END:VCALENDAR