BEGIN:VCALENDAR
VERSION:2.0
PRODID:JMS Hockey
X-PUBLISHED-TTL:P1W
BEGIN:VEVENT
UID:69e7ddb3c748b
DTSTART:20111004T021500Z
SEQUENCE:0
TRANSP:OPAQUE
DTEND:20111004T034500Z
URL:http://jmshockey.com/games/3163
LOCATION:Minnetonka Ice Arena
SUMMARY:Level 2 Game at Minnetonka Ice Arena
CLASS:PUBLIC
DTSTAMP:20260421T152731Z
END:VEVENT
END:VCALENDAR