BEGIN:VCALENDAR
VERSION:2.0
PRODID:JMS Hockey
X-PUBLISHED-TTL:P1W
BEGIN:VEVENT
UID:69e7d84c98757
DTSTART:20110907T024000Z
SEQUENCE:0
TRANSP:OPAQUE
DTEND:20110907T041000Z
URL:http://jmshockey.com/games/3156
LOCATION:Inver Grove Heights Community Center
SUMMARY:Upper Level Game at Inver Grove Heights Community Center
CLASS:PUBLIC
DTSTAMP:20260421T150428Z
END:VEVENT
END:VCALENDAR