BEGIN:VCALENDAR
VERSION:2.0
PRODID:JMS Hockey
X-PUBLISHED-TTL:P1W
BEGIN:VEVENT
UID:69e7c349a13d1
DTSTART:20111112T040000Z
SEQUENCE:0
TRANSP:OPAQUE
DTEND:20111112T053000Z
URL:http://jmshockey.com/games/3149
LOCATION:Fogerty Icehouse
SUMMARY:All level Game at Fogerty Icehouse
CLASS:PUBLIC
DTSTAMP:20260421T133449Z
END:VEVENT
END:VCALENDAR