BEGIN:VCALENDAR
VERSION:2.0
PRODID:JMS Hockey
X-PUBLISHED-TTL:P1W
BEGIN:VEVENT
UID:69e7a3b053467
DTSTART:20111105T030000Z
SEQUENCE:0
TRANSP:OPAQUE
DTEND:20111105T043000Z
URL:http://jmshockey.com/games/3147
LOCATION:Fogerty Icehouse
SUMMARY:All level Game at Fogerty Icehouse
CLASS:PUBLIC
DTSTAMP:20260421T112000Z
END:VEVENT
END:VCALENDAR