BEGIN:VCALENDAR
VERSION:2.0
PRODID:JMS Hockey
X-PUBLISHED-TTL:P1W
BEGIN:VEVENT
UID:69e7c6a1bd451
DTSTART:20111029T024000Z
SEQUENCE:0
TRANSP:OPAQUE
DTEND:20111029T041000Z
URL:http://jmshockey.com/games/3145
LOCATION:Fogerty Icehouse
SUMMARY:All level Game at Fogerty Icehouse
CLASS:PUBLIC
DTSTAMP:20260421T134905Z
END:VEVENT
END:VCALENDAR