BEGIN:VCALENDAR
VERSION:2.0
PRODID:JMS Hockey
X-PUBLISHED-TTL:P1W
BEGIN:VEVENT
UID:69e7ad8188641
DTSTART:20111022T025000Z
SEQUENCE:0
TRANSP:OPAQUE
DTEND:20111022T042000Z
URL:http://jmshockey.com/games/3143
LOCATION:Fogerty Icehouse
SUMMARY:All level Game at Fogerty Icehouse
CLASS:PUBLIC
DTSTAMP:20260421T120153Z
END:VEVENT
END:VCALENDAR