BEGIN:VCALENDAR
VERSION:2.0
PRODID:JMS Hockey
X-PUBLISHED-TTL:P1W
BEGIN:VEVENT
UID:69e7cae6f1a0c
DTSTART:20111019T023000Z
SEQUENCE:0
TRANSP:OPAQUE
DTEND:20111019T040000Z
URL:http://jmshockey.com/games/3129
LOCATION:Eden Prairie Comm Ctr
SUMMARY:Level 3 Game at Eden Prairie Comm Ctr
CLASS:PUBLIC
DTSTAMP:20260421T140718Z
END:VEVENT
END:VCALENDAR