BEGIN:VCALENDAR
VERSION:2.0
PRODID:JMS Hockey
X-PUBLISHED-TTL:P1W
BEGIN:VEVENT
UID:69e7c2f652181
DTSTART:20090214T023000Z
SEQUENCE:0
TRANSP:OPAQUE
DTEND:20090214T040000Z
URL:http://jmshockey.com/games/312
LOCATION:St Louis Park Rec Center
SUMMARY:Level 1 Game at St Louis Park Rec Center
CLASS:PUBLIC
DTSTAMP:20260421T133326Z
END:VEVENT
END:VCALENDAR