BEGIN:VCALENDAR
VERSION:2.0
PRODID:JMS Hockey
X-PUBLISHED-TTL:P1W
BEGIN:VEVENT
UID:69e7c3adde066
DTSTART:20110917T013000Z
SEQUENCE:0
TRANSP:OPAQUE
DTEND:20110917T030000Z
URL:http://jmshockey.com/games/3112
LOCATION:Eden Prairie Comm Ctr
SUMMARY:All level Game at Eden Prairie Comm Ctr
CLASS:PUBLIC
DTSTAMP:20260421T133629Z
END:VEVENT
END:VCALENDAR