BEGIN:VCALENDAR
VERSION:2.0
PRODID:JMS Hockey
X-PUBLISHED-TTL:P1W
BEGIN:VEVENT
UID:69e7b12bde971
DTSTART:20111108T033000Z
SEQUENCE:0
TRANSP:OPAQUE
DTEND:20111108T050000Z
URL:http://jmshockey.com/games/3110
LOCATION:Breck Anderson Arena
SUMMARY:Level 1 Game at Breck Anderson Arena
CLASS:PUBLIC
DTSTAMP:20260421T121731Z
END:VEVENT
END:VCALENDAR