BEGIN:VCALENDAR
VERSION:2.0
PRODID:JMS Hockey
X-PUBLISHED-TTL:P1W
BEGIN:VEVENT
UID:69e7c122c89da
DTSTART:20111025T023000Z
SEQUENCE:0
TRANSP:OPAQUE
DTEND:20111025T040000Z
URL:http://jmshockey.com/games/3109
LOCATION:Breck Anderson Arena
SUMMARY:Level 2 Game at Breck Anderson Arena
CLASS:PUBLIC
DTSTAMP:20260421T132538Z
END:VEVENT
END:VCALENDAR