BEGIN:VCALENDAR
VERSION:2.0
PRODID:JMS Hockey
X-PUBLISHED-TTL:P1W
BEGIN:VEVENT
UID:69e7d47a1d826
DTSTART:20120103T034500Z
SEQUENCE:0
TRANSP:OPAQUE
DTEND:20120103T051500Z
URL:http://jmshockey.com/games/3103
LOCATION:Bloomington Ice Gardens
SUMMARY:Lower Level Game at Bloomington Ice Gardens
CLASS:PUBLIC
DTSTAMP:20260421T144810Z
END:VEVENT
END:VCALENDAR