BEGIN:VCALENDAR
VERSION:2.0
PRODID:JMS Hockey
X-PUBLISHED-TTL:P1W
BEGIN:VEVENT
UID:69e7cadd50f0e
DTSTART:20111203T023000Z
SEQUENCE:0
TRANSP:OPAQUE
DTEND:20111203T040000Z
URL:http://jmshockey.com/games/3093
LOCATION:Bloomington Ice Gardens
SUMMARY:Level 3 Game at Bloomington Ice Gardens
CLASS:PUBLIC
DTSTAMP:20260421T140709Z
END:VEVENT
END:VCALENDAR