BEGIN:VCALENDAR
VERSION:2.0
PRODID:JMS Hockey
X-PUBLISHED-TTL:P1W
BEGIN:VEVENT
UID:69e7e6a1b0336
DTSTART:20111124T031500Z
SEQUENCE:0
TRANSP:OPAQUE
DTEND:20111124T044500Z
URL:http://jmshockey.com/games/3089
LOCATION:Bloomington Ice Gardens
SUMMARY:Level 2 Game at Bloomington Ice Gardens
CLASS:PUBLIC
DTSTAMP:20260421T160537Z
END:VEVENT
END:VCALENDAR