BEGIN:VCALENDAR
VERSION:2.0
PRODID:JMS Hockey
X-PUBLISHED-TTL:P1W
BEGIN:VEVENT
UID:69e7ad7aabc5b
DTSTART:20111027T024500Z
SEQUENCE:0
TRANSP:OPAQUE
DTEND:20111027T041500Z
URL:http://jmshockey.com/games/3078
LOCATION:Bloomington Ice Gardens
SUMMARY:Level 2 Game at Bloomington Ice Gardens
CLASS:PUBLIC
DTSTAMP:20260421T120146Z
END:VEVENT
END:VCALENDAR