BEGIN:VCALENDAR
VERSION:2.0
PRODID:JMS Hockey
X-PUBLISHED-TTL:P1W
BEGIN:VEVENT
UID:69e7c6f9d2572
DTSTART:20111005T024500Z
SEQUENCE:0
TRANSP:OPAQUE
DTEND:20111005T041500Z
URL:http://jmshockey.com/games/3069
LOCATION:Apple Valley Hayes Park Arena
SUMMARY:All level Game at Apple Valley Hayes Park Arena
CLASS:PUBLIC
DTSTAMP:20260421T135033Z
END:VEVENT
END:VCALENDAR